BEGIN:VCALENDAR
VERSION:2.0
PRODID:-//St. James Church - ECPv6.15.20//NONSGML v1.0//EN
CALSCALE:GREGORIAN
METHOD:PUBLISH
X-ORIGINAL-URL:https://ourstjames.church
X-WR-CALDESC:Events for St. James Church
REFRESH-INTERVAL;VALUE=DURATION:PT1H
X-Robots-Tag:noindex
X-PUBLISHED-TTL:PT1H
BEGIN:VTIMEZONE
TZID:America/Halifax
BEGIN:DAYLIGHT
TZOFFSETFROM:-0400
TZOFFSETTO:-0300
TZNAME:ADT
DTSTART:20170312T060000
END:DAYLIGHT
BEGIN:STANDARD
TZOFFSETFROM:-0300
TZOFFSETTO:-0400
TZNAME:AST
DTSTART:20171105T050000
END:STANDARD
BEGIN:DAYLIGHT
TZOFFSETFROM:-0400
TZOFFSETTO:-0300
TZNAME:ADT
DTSTART:20180311T060000
END:DAYLIGHT
BEGIN:STANDARD
TZOFFSETFROM:-0300
TZOFFSETTO:-0400
TZNAME:AST
DTSTART:20181104T050000
END:STANDARD
BEGIN:DAYLIGHT
TZOFFSETFROM:-0400
TZOFFSETTO:-0300
TZNAME:ADT
DTSTART:20190310T060000
END:DAYLIGHT
BEGIN:STANDARD
TZOFFSETFROM:-0300
TZOFFSETTO:-0400
TZNAME:AST
DTSTART:20191103T050000
END:STANDARD
BEGIN:DAYLIGHT
TZOFFSETFROM:-0400
TZOFFSETTO:-0300
TZNAME:ADT
DTSTART:20200308T060000
END:DAYLIGHT
BEGIN:STANDARD
TZOFFSETFROM:-0300
TZOFFSETTO:-0400
TZNAME:AST
DTSTART:20201101T050000
END:STANDARD
END:VTIMEZONE
BEGIN:VEVENT
DTSTART;TZID=America/Halifax:20190323T090000
DTEND;TZID=America/Halifax:20190323T120000
DTSTAMP:20260423T213023
CREATED:20190307T203941Z
LAST-MODIFIED:20190307T203941Z
UID:1538-1553331600-1553342400@ourstjames.church
SUMMARY:St. James Corn Beef Dinner Prepping
DESCRIPTION:Bring cutting board\, peelers and knives.
URL:https://ourstjames.church/event/st-james-corn-beef-dinner-prepping
LOCATION:St. James UCC\, 9008 Meisner Rd\, Casco\, 48064\, United States
END:VEVENT
BEGIN:VEVENT
DTSTART;TZID=America/Halifax:20190320T190000
DTEND;TZID=America/Halifax:20190320T200000
DTSTAMP:20260423T213023
CREATED:20190307T203808Z
LAST-MODIFIED:20190307T203808Z
UID:1534-1553108400-1553112000@ourstjames.church
SUMMARY:Lenten Discussion Group at St. John's
DESCRIPTION:Bring bible if you have one.
URL:https://ourstjames.church/event/lenten-discussion-group-at-st-johns
LOCATION:St. Johns
END:VEVENT
BEGIN:VEVENT
DTSTART;TZID=America/Halifax:20190317T090000
DTEND;TZID=America/Halifax:20190317T100000
DTSTAMP:20260423T213023
CREATED:20190111T171403Z
LAST-MODIFIED:20190111T171403Z
UID:1490-1552813200-1552816800@ourstjames.church
SUMMARY:Sunday Service with Communion
DESCRIPTION:Happy St. Patrick’s Day!!!!
URL:https://ourstjames.church/event/sunday-service-with-communion-3
LOCATION:St. James UCC\, 9008 Meisner Rd\, Casco\, 48064\, United States
END:VEVENT
BEGIN:VEVENT
DTSTART;TZID=America/Halifax:20190313T190000
DTEND;TZID=America/Halifax:20190403T200000
DTSTAMP:20260423T213023
CREATED:20190111T171246Z
LAST-MODIFIED:20190307T203657Z
UID:1487-1552503600-1554321600@ourstjames.church
SUMMARY:Lenten Discussion Group at St. John's
DESCRIPTION:Bring your bible if you have one.
URL:https://ourstjames.church/event/lenten-discussion-group
LOCATION:St. Johns
END:VEVENT
BEGIN:VEVENT
DTSTART;TZID=America/Halifax:20190312T190000
DTEND;TZID=America/Halifax:20190312T203000
DTSTAMP:20260423T213023
CREATED:20190111T171130Z
LAST-MODIFIED:20190111T171130Z
UID:1484-1552417200-1552422600@ourstjames.church
SUMMARY:Council Meeting
DESCRIPTION:
URL:https://ourstjames.church/event/council-meeting-7
LOCATION:St. James UCC\, 9008 Meisner Rd\, Casco\, 48064\, United States
END:VEVENT
BEGIN:VEVENT
DTSTART;TZID=America/Halifax:20190306T180000
DTEND;TZID=America/Halifax:20190306T200000
DTSTAMP:20260423T213023
CREATED:20190111T171051Z
LAST-MODIFIED:20190111T171051Z
UID:1481-1551895200-1551902400@ourstjames.church
SUMMARY:Ash Wednesday Supper and Service
DESCRIPTION:Potluck supper of soup\, salad and sandwiches before service @ 6:00pm.
URL:https://ourstjames.church/event/ash-wednesday-supper-and-service
LOCATION:St. James UCC\, 9008 Meisner Rd\, Casco\, 48064\, United States
END:VEVENT
BEGIN:VEVENT
DTSTART;TZID=America/Halifax:20190303T080000
DTEND;TZID=America/Halifax:20190303T170000
DTSTAMP:20260423T213023
CREATED:20190111T170816Z
LAST-MODIFIED:20190111T170816Z
UID:1478-1551600000-1551632400@ourstjames.church
SUMMARY:Sunday Service with Communion & Discretionary Fund Collection
DESCRIPTION:
URL:https://ourstjames.church/event/sunday-service-with-communion-discretionary-fund-collection
END:VEVENT
BEGIN:VEVENT
DTSTART;TZID=America/Halifax:20190217T090000
DTEND;TZID=America/Halifax:20190217T100000
DTSTAMP:20260423T213023
CREATED:20190111T170618Z
LAST-MODIFIED:20190111T170618Z
UID:1472-1550394000-1550397600@ourstjames.church
SUMMARY:Sunday Service with Communion
DESCRIPTION:
URL:https://ourstjames.church/event/sunday-service-with-communion-2
LOCATION:St. James UCC\, 9008 Meisner Rd\, Casco\, 48064\, United States
END:VEVENT
BEGIN:VEVENT
DTSTART;TZID=America/Halifax:20190216T183000
DTEND;TZID=America/Halifax:20190216T220000
DTSTAMP:20260423T213023
CREATED:20190111T170528Z
LAST-MODIFIED:20190111T170528Z
UID:1469-1550341800-1550354400@ourstjames.church
SUMMARY:Euchre
DESCRIPTION:
URL:https://ourstjames.church/event/euchre-9
LOCATION:St. James UCC\, 9008 Meisner Rd\, Casco\, 48064\, United States
END:VEVENT
BEGIN:VEVENT
DTSTART;TZID=America/Halifax:20190214T080000
DTEND;TZID=America/Halifax:20190214T170000
DTSTAMP:20260423T213023
CREATED:20190111T170700Z
LAST-MODIFIED:20190111T170700Z
UID:1475-1550131200-1550163600@ourstjames.church
SUMMARY:Happy Valentine's Day
DESCRIPTION:
URL:https://ourstjames.church/event/happy-valentines-day
END:VEVENT
BEGIN:VEVENT
DTSTART;TZID=America/Halifax:20190212T190000
DTEND;TZID=America/Halifax:20190212T200000
DTSTAMP:20260423T213023
CREATED:20190111T170446Z
LAST-MODIFIED:20190111T170446Z
UID:1466-1549998000-1550001600@ourstjames.church
SUMMARY:Council Meeting
DESCRIPTION:
URL:https://ourstjames.church/event/council-meeting-6
LOCATION:St. James UCC\, 9008 Meisner Rd\, Casco\, 48064\, United States
END:VEVENT
BEGIN:VEVENT
DTSTART;TZID=America/Halifax:20190203T090000
DTEND;TZID=America/Halifax:20190203T100000
DTSTAMP:20260423T213023
CREATED:20190111T170409Z
LAST-MODIFIED:20190111T170409Z
UID:1463-1549184400-1549188000@ourstjames.church
SUMMARY:Communion Sunday Service & Discretionary Fund Collection
DESCRIPTION:
URL:https://ourstjames.church/event/communion-sunday-service-discretionary-fund-collection
LOCATION:St. James UCC\, 9008 Meisner Rd\, Casco\, 48064\, United States
END:VEVENT
BEGIN:VEVENT
DTSTART;TZID=America/Halifax:20190127T090000
DTEND;TZID=America/Halifax:20190127T113000
DTSTAMP:20260423T213023
CREATED:20190111T170244Z
LAST-MODIFIED:20190111T170244Z
UID:1460-1548579600-1548588600@ourstjames.church
SUMMARY:Annual Meeting and Potluck Breakfast after Sunday Service
DESCRIPTION:
URL:https://ourstjames.church/event/annual-meeting-and-potluck-breakfast-after-sunday-service
LOCATION:St. James UCC\, 9008 Meisner Rd\, Casco\, 48064\, United States
END:VEVENT
BEGIN:VEVENT
DTSTART;TZID=America/Halifax:20190119T183000
DTEND;TZID=America/Halifax:20190119T220000
DTSTAMP:20260423T213023
CREATED:20190111T170035Z
LAST-MODIFIED:20190111T170035Z
UID:1453-1547922600-1547935200@ourstjames.church
SUMMARY:Euchre
DESCRIPTION:
URL:https://ourstjames.church/event/euchre-8
LOCATION:St. James UCC\, 9008 Meisner Rd\, Casco\, 48064\, United States
END:VEVENT
BEGIN:VEVENT
DTSTART;TZID=America/Halifax:20190113T090000
DTEND;TZID=America/Halifax:20190113T100000
DTSTAMP:20260423T213023
CREATED:20190111T170138Z
LAST-MODIFIED:20190111T170138Z
UID:1457-1547370000-1547373600@ourstjames.church
SUMMARY:Communion Sunday
DESCRIPTION:
URL:https://ourstjames.church/event/communion-sunday-15
LOCATION:St. James UCC\, 9008 Meisner Rd\, Casco\, 48064\, United States
END:VEVENT
BEGIN:VEVENT
DTSTART;TZID=America/Halifax:20190112T080000
DTEND;TZID=America/Halifax:20190511T170000
DTSTAMP:20260423T213023
CREATED:20190111T173515Z
LAST-MODIFIED:20190111T173515Z
UID:1500-1547280000-1557594000@ourstjames.church
SUMMARY:Fun & Games Night at St. Johns
DESCRIPTION:
URL:https://ourstjames.church/event/fun-games-night-at-st-johns
LOCATION:St. Johns
END:VEVENT
BEGIN:VEVENT
DTSTART;TZID=America/Halifax:20190110T080000
DTEND;TZID=America/Halifax:20190110T170000
DTSTAMP:20260423T213023
CREATED:20181127T170219Z
LAST-MODIFIED:20181127T170219Z
UID:1427-1547107200-1547139600@ourstjames.church
SUMMARY:Council Members Annual Reports due to Roberta Fisher
DESCRIPTION:
URL:https://ourstjames.church/event/council-members-annual-reports-due-to-roberta-fisher
END:VEVENT
BEGIN:VEVENT
DTSTART;TZID=America/Halifax:20181230T090000
DTEND;TZID=America/Halifax:20181230T100000
DTSTAMP:20260423T213023
CREATED:20181127T165835Z
LAST-MODIFIED:20181127T165835Z
UID:1422-1546160400-1546164000@ourstjames.church
SUMMARY:Healing Service
DESCRIPTION:
URL:https://ourstjames.church/event/healing-service-3
END:VEVENT
BEGIN:VEVENT
DTSTART;TZID=America/Halifax:20181224T230000
DTEND;TZID=America/Halifax:20181224T230000
DTSTAMP:20260423T213023
CREATED:20181127T165712Z
LAST-MODIFIED:20181127T165712Z
UID:1416-1545692400-1545692400@ourstjames.church
SUMMARY:Christmas Eve Service
DESCRIPTION:
URL:https://ourstjames.church/event/christmas-eve-service
END:VEVENT
BEGIN:VEVENT
DTSTART;TZID=America/Halifax:20181224T190000
DTEND;TZID=America/Halifax:20181224T200000
DTSTAMP:20260423T213023
CREATED:20181127T165549Z
LAST-MODIFIED:20181127T165549Z
UID:1413-1545678000-1545681600@ourstjames.church
SUMMARY:Children's Christmas Service
DESCRIPTION:
URL:https://ourstjames.church/event/childrens-christmas-service
END:VEVENT
BEGIN:VEVENT
DTSTART;TZID=America/Halifax:20181224T160000
DTEND;TZID=America/Halifax:20181224T170000
DTSTAMP:20260423T213023
CREATED:20181127T165806Z
LAST-MODIFIED:20181127T165806Z
UID:1419-1545667200-1545670800@ourstjames.church
SUMMARY:Christmas Service at St. John's
DESCRIPTION:Christmas Eve service at St. John’s church in Marine City
URL:https://ourstjames.church/event/christmas-service-at-st-johns
END:VEVENT
BEGIN:VEVENT
DTSTART;TZID=America/Halifax:20181221T190000
DTEND;TZID=America/Halifax:20181221T200000
DTSTAMP:20260423T213023
CREATED:20181127T165502Z
LAST-MODIFIED:20181127T165502Z
UID:1410-1545418800-1545422400@ourstjames.church
SUMMARY:Blue Christmas Service
DESCRIPTION:
URL:https://ourstjames.church/event/blue-christmas-service-2
END:VEVENT
BEGIN:VEVENT
DTSTART;TZID=America/Halifax:20181216T090000
DTEND;TZID=America/Halifax:20181216T100000
DTSTAMP:20260423T213023
CREATED:20181127T165415Z
LAST-MODIFIED:20181127T172043Z
UID:1407-1544950800-1544954400@ourstjames.church
SUMMARY:Third Sunday of Advent / Sunday Service with Communion
DESCRIPTION:
URL:https://ourstjames.church/event/sunday-service-with-communion
END:VEVENT
BEGIN:VEVENT
DTSTART;TZID=America/Halifax:20181215T183000
DTEND;TZID=America/Halifax:20181215T223000
DTSTAMP:20260423T213023
CREATED:20181127T165332Z
LAST-MODIFIED:20181127T165332Z
UID:1404-1544898600-1544913000@ourstjames.church
SUMMARY:Euchre
DESCRIPTION:Fellowship of playing cards\, 50/50 drawing\, food and good company.
URL:https://ourstjames.church/event/euchre-7
END:VEVENT
BEGIN:VEVENT
DTSTART;TZID=America/Halifax:20181213T183000
DTEND;TZID=America/Halifax:20181213T203000
DTSTAMP:20260423T213023
CREATED:20181127T165210Z
LAST-MODIFIED:20181127T165210Z
UID:1401-1544725800-1544733000@ourstjames.church
SUMMARY:St. James Ladies Christmas Party
DESCRIPTION:A evening of fellowship with prayer\, Pot-luck supper\, singing\, sharing and reveal of Secret Pals for 2018.
URL:https://ourstjames.church/event/st-james-ladies-christmas-party
END:VEVENT
BEGIN:VEVENT
DTSTART;TZID=America/Halifax:20181202T090000
DTEND;TZID=America/Halifax:20181202T120000
DTSTAMP:20260423T213023
CREATED:20181127T164944Z
LAST-MODIFIED:20181127T172018Z
UID:1398-1543741200-1543752000@ourstjames.church
SUMMARY:First Sunday of Advent / Sunday Worship with Communion / Hanging of the Greens / Discretionary Fund Collection
DESCRIPTION:Hanging of Greens will follow service and pot-luck breakfast.
URL:https://ourstjames.church/event/sunday-worship-with-communion-hanging-of-the-greens
END:VEVENT
BEGIN:VEVENT
DTSTART;TZID=America/Halifax:20181127T080000
DTEND;TZID=America/Halifax:20181127T170000
DTSTAMP:20260423T213023
CREATED:20181127T172158Z
LAST-MODIFIED:20181127T172158Z
UID:1434-1543305600-1543338000@ourstjames.church
SUMMARY:Christmas Day
DESCRIPTION:Have a blessed CHRISTmas Day.  Remember the reason for the season.
URL:https://ourstjames.church/event/christmas-day
END:VEVENT
BEGIN:VEVENT
DTSTART;TZID=America/Halifax:20181125T140000
DTEND;TZID=America/Halifax:20181125T160000
DTSTAMP:20260423T213023
CREATED:20181102T185447Z
LAST-MODIFIED:20181102T185447Z
UID:1387-1543154400-1543161600@ourstjames.church
SUMMARY:Hanging of the Greens and Potluck Supper
DESCRIPTION:Decorate church followed by potluck supper.
URL:https://ourstjames.church/event/hanging-of-the-greens-and-potluck-supper
END:VEVENT
BEGIN:VEVENT
DTSTART;TZID=America/Halifax:20181125T090000
DTEND;TZID=America/Halifax:20181125T100000
DTSTAMP:20260423T213023
CREATED:20181102T185327Z
LAST-MODIFIED:20181102T185327Z
UID:1384-1543136400-1543140000@ourstjames.church
SUMMARY:Sunday Worship
DESCRIPTION:
URL:https://ourstjames.church/event/sunday-worship
END:VEVENT
BEGIN:VEVENT
DTSTART;TZID=America/Halifax:20181118T120000
DTEND;TZID=America/Halifax:20181118T133000
DTSTAMP:20260423T213023
CREATED:20181102T185245Z
LAST-MODIFIED:20181102T185248Z
UID:1381-1542542400-1542547800@ourstjames.church
SUMMARY:Brunch at Riveria in Marine City
DESCRIPTION:Joining with St. John’s for brunch
URL:https://ourstjames.church/event/brunch-at-riveria-in-marine-city
END:VEVENT
END:VCALENDAR