BEGIN:VCALENDAR
VERSION:2.0
PRODID:-//St. James Church - ECPv6.15.20//NONSGML v1.0//EN
CALSCALE:GREGORIAN
METHOD:PUBLISH
X-ORIGINAL-URL:https://ourstjames.church
X-WR-CALDESC:Events for St. James Church
REFRESH-INTERVAL;VALUE=DURATION:PT1H
X-Robots-Tag:noindex
X-PUBLISHED-TTL:PT1H
BEGIN:VTIMEZONE
TZID:America/Halifax
BEGIN:DAYLIGHT
TZOFFSETFROM:-0400
TZOFFSETTO:-0300
TZNAME:ADT
DTSTART:20180311T060000
END:DAYLIGHT
BEGIN:STANDARD
TZOFFSETFROM:-0300
TZOFFSETTO:-0400
TZNAME:AST
DTSTART:20181104T050000
END:STANDARD
BEGIN:DAYLIGHT
TZOFFSETFROM:-0400
TZOFFSETTO:-0300
TZNAME:ADT
DTSTART:20190310T060000
END:DAYLIGHT
BEGIN:STANDARD
TZOFFSETFROM:-0300
TZOFFSETTO:-0400
TZNAME:AST
DTSTART:20191103T050000
END:STANDARD
BEGIN:DAYLIGHT
TZOFFSETFROM:-0400
TZOFFSETTO:-0300
TZNAME:ADT
DTSTART:20200308T060000
END:DAYLIGHT
BEGIN:STANDARD
TZOFFSETFROM:-0300
TZOFFSETTO:-0400
TZNAME:AST
DTSTART:20201101T050000
END:STANDARD
END:VTIMEZONE
BEGIN:VEVENT
DTSTART;TZID=America/Halifax:20191229T090000
DTEND;TZID=America/Halifax:20191229T100000
DTSTAMP:20260423T133322
CREATED:20191126T172415Z
LAST-MODIFIED:20191126T172415Z
UID:1748-1577610000-1577613600@ourstjames.church
SUMMARY:Healing Service
DESCRIPTION:
URL:https://ourstjames.church/event/healing-service-6
END:VEVENT
BEGIN:VEVENT
DTSTART;TZID=America/Halifax:20191225T080000
DTEND;TZID=America/Halifax:20191225T170000
DTSTAMP:20260423T133322
CREATED:20191126T172453Z
LAST-MODIFIED:20191126T172716Z
UID:1751-1577260800-1577293200@ourstjames.church
SUMMARY:Christmas Day - Jesus's Birth
DESCRIPTION:Merry Christmas to all!!
URL:https://ourstjames.church/event/christmas-day-jesuss-birth
END:VEVENT
BEGIN:VEVENT
DTSTART;TZID=America/Halifax:20191224T230000
DTEND;TZID=America/Halifax:20191224T230000
DTSTAMP:20260423T133322
CREATED:20191126T172305Z
LAST-MODIFIED:20191126T172305Z
UID:1742-1577228400-1577228400@ourstjames.church
SUMMARY:Christmas Eve Service with Communion
DESCRIPTION:
URL:https://ourstjames.church/event/christmas-eve-service-with-communion
LOCATION:St. James UCC\, 9008 Meisner Rd\, Casco\, 48064\, United States
END:VEVENT
BEGIN:VEVENT
DTSTART;TZID=America/Halifax:20191224T190000
DTEND;TZID=America/Halifax:20191224T200000
DTSTAMP:20260423T133322
CREATED:20191126T172054Z
LAST-MODIFIED:20191126T172054Z
UID:1739-1577214000-1577217600@ourstjames.church
SUMMARY:Family Christmas Eve Service
DESCRIPTION:
URL:https://ourstjames.church/event/family-christmas-eve-service
LOCATION:St. James UCC\, 9008 Meisner Rd\, Casco\, 48064\, United States
END:VEVENT
BEGIN:VEVENT
DTSTART;TZID=America/Halifax:20191224T160000
DTEND;TZID=America/Halifax:20191224T170000
DTSTAMP:20260423T133322
CREATED:20191126T172013Z
LAST-MODIFIED:20191126T172013Z
UID:1736-1577203200-1577206800@ourstjames.church
SUMMARY:Christmas Eve Service at St. John's
DESCRIPTION:
URL:https://ourstjames.church/event/christmas-eve-service-at-st-johns
LOCATION:St. Johns
END:VEVENT
BEGIN:VEVENT
DTSTART;TZID=America/Halifax:20191222T090000
DTEND;TZID=America/Halifax:20191222T100000
DTSTAMP:20260423T133322
CREATED:20191126T172348Z
LAST-MODIFIED:20191126T172348Z
UID:1745-1577005200-1577008800@ourstjames.church
SUMMARY:Fourth Sunday of Advent - Sunday Service
DESCRIPTION:
URL:https://ourstjames.church/event/fourth-sunday-of-advent-sunday-service
LOCATION:St. James UCC\, 9008 Meisner Rd\, Casco\, 48064\, United States
END:VEVENT
BEGIN:VEVENT
DTSTART;TZID=America/Halifax:20191221T190000
DTEND;TZID=America/Halifax:20191221T200000
DTSTAMP:20260423T133322
CREATED:20191126T171917Z
LAST-MODIFIED:20191126T171917Z
UID:1733-1576954800-1576958400@ourstjames.church
SUMMARY:Blue Christmas Service
DESCRIPTION:
URL:https://ourstjames.church/event/blue-christmas-service-3
LOCATION:St. James UCC\, 9008 Meisner Rd\, Casco\, 48064\, United States
END:VEVENT
BEGIN:VEVENT
DTSTART;TZID=America/Halifax:20191215T090000
DTEND;TZID=America/Halifax:20191215T100000
DTSTAMP:20260423T133322
CREATED:20191126T171831Z
LAST-MODIFIED:20191126T171831Z
UID:1730-1576400400-1576404000@ourstjames.church
SUMMARY:Third Sunday of Advent - Sunday Service with Communion
DESCRIPTION:
URL:https://ourstjames.church/event/third-sunday-of-advent-sunday-service-with-communion
LOCATION:St. James UCC\, 9008 Meisner Rd\, Casco\, 48064\, United States
END:VEVENT
BEGIN:VEVENT
DTSTART;TZID=America/Halifax:20191214T183000
DTEND;TZID=America/Halifax:20191214T223000
DTSTAMP:20260423T133322
CREATED:20191126T171638Z
LAST-MODIFIED:20191126T171638Z
UID:1724-1576348200-1576362600@ourstjames.church
SUMMARY:Euchre
DESCRIPTION:Euchre has been moved to the second Saturday due to blue Christmas Service on the 21st.
URL:https://ourstjames.church/event/euchre-13
LOCATION:St. James UCC\, 9008 Meisner Rd\, Casco\, 48064\, United States
END:VEVENT
BEGIN:VEVENT
DTSTART;TZID=America/Halifax:20191212T183000
DTEND;TZID=America/Halifax:20191212T203000
DTSTAMP:20260423T133322
CREATED:20191126T171530Z
LAST-MODIFIED:20191126T171530Z
UID:1721-1576175400-1576182600@ourstjames.church
SUMMARY:Women's Christmas Party
DESCRIPTION:Please join us for an evening of fellowship\, food and fun.  We will have a Christmas Play and singing.  Bring a dish to pass for potluck supper. Signup sheet in the church basement.  Reveal who you are Secret Pal to this past year and signup for next year if interested (bring Christmas gift for your Secret Pal.
URL:https://ourstjames.church/event/womens-christmas-party
LOCATION:St. James UCC\, 9008 Meisner Rd\, Casco\, 48064\, United States
END:VEVENT
BEGIN:VEVENT
DTSTART;TZID=America/Halifax:20191210T190000
DTEND;TZID=America/Halifax:20191210T203000
DTSTAMP:20260423T133322
CREATED:20191126T171201Z
LAST-MODIFIED:20191126T171201Z
UID:1718-1576004400-1576009800@ourstjames.church
SUMMARY:Council Meeting
DESCRIPTION:
URL:https://ourstjames.church/event/council-meeting-11
LOCATION:St. James UCC\, 9008 Meisner Rd\, Casco\, 48064\, United States
END:VEVENT
BEGIN:VEVENT
DTSTART;TZID=America/Halifax:20191208T090000
DTEND;TZID=America/Halifax:20191208T100000
DTSTAMP:20260423T133322
CREATED:20191126T171732Z
LAST-MODIFIED:20191126T171732Z
UID:1727-1575795600-1575799200@ourstjames.church
SUMMARY:Second Sunday of Advent
DESCRIPTION:
URL:https://ourstjames.church/event/second-sunday-of-advent
LOCATION:St. James UCC\, 9008 Meisner Rd\, Casco\, 48064\, United States
END:VEVENT
BEGIN:VEVENT
DTSTART;TZID=America/Halifax:20191207T140000
DTEND;TZID=America/Halifax:20191207T150000
DTSTAMP:20260423T133322
CREATED:20191126T180609Z
LAST-MODIFIED:20191126T180609Z
UID:1765-1575727200-1575730800@ourstjames.church
SUMMARY:Cookie Exchange with St. James & St. John's
DESCRIPTION:12 People have signed up for the Cookie Exchange between both churches.  Bring a dozen cookies for each person if you count yourself\, that would be 12.
URL:https://ourstjames.church/event/cookie-exchange-with-st-james-st-johns
LOCATION:St. Johns
END:VEVENT
BEGIN:VEVENT
DTSTART;TZID=America/Halifax:20191201T090000
DTEND;TZID=America/Halifax:20191201T100000
DTSTAMP:20260423T133322
CREATED:20191126T171117Z
LAST-MODIFIED:20191126T171117Z
UID:1715-1575190800-1575194400@ourstjames.church
SUMMARY:First Sunday of Advent - Sunday Service with Communion
DESCRIPTION:
URL:https://ourstjames.church/event/first-sunday-of-advent-sunday-service-with-communion
LOCATION:St. James UCC\, 9008 Meisner Rd\, Casco\, 48064\, United States
END:VEVENT
BEGIN:VEVENT
DTSTART;TZID=America/Halifax:20191020T160000
DTEND;TZID=America/Halifax:20191020T190000
DTSTAMP:20260423T133322
CREATED:20190809T151126Z
LAST-MODIFIED:20190809T151126Z
UID:1690-1571587200-1571598000@ourstjames.church
SUMMARY:Chili Cook Off
DESCRIPTION:St. James U.C.C. \nAnnual Chili Cook-Off \nSunday\, October 14\, 2018 \nPerch Point Conservation Club \n7930 Meisner Road\, Casco \n4:00PM \nAnyone may enter their chili for judging!   \nIncludes: Chili\, Hot Dogs\, chips\, drink and dessert) \nFun for Everyone \n Children’s Craft Table \nSilent Auction \nBake Sale \n    \n 
URL:https://ourstjames.church/event/chili-cook-off
LOCATION:Perch Point
END:VEVENT
BEGIN:VEVENT
DTSTART;TZID=America/Halifax:20190929T090000
DTEND;TZID=America/Halifax:20190929T100000
DTSTAMP:20260423T133322
CREATED:20190809T150628Z
LAST-MODIFIED:20190809T150628Z
UID:1684-1569747600-1569751200@ourstjames.church
SUMMARY:Healing Service
DESCRIPTION:
URL:https://ourstjames.church/event/healing-service-5
LOCATION:St. James UCC\, 9008 Meisner Rd\, Casco\, 48064\, United States
END:VEVENT
BEGIN:VEVENT
DTSTART;TZID=America/Halifax:20190921T183000
DTEND;TZID=America/Halifax:20190921T223000
DTSTAMP:20260423T133322
CREATED:20190809T150702Z
LAST-MODIFIED:20190809T150702Z
UID:1687-1569090600-1569105000@ourstjames.church
SUMMARY:Euchre
DESCRIPTION:
URL:https://ourstjames.church/event/euchre-12
LOCATION:St. James UCC\, 9008 Meisner Rd\, Casco\, 48064\, United States
END:VEVENT
BEGIN:VEVENT
DTSTART;TZID=America/Halifax:20190915T090000
DTEND;TZID=America/Halifax:20190915T100000
DTSTAMP:20260423T133322
CREATED:20190809T150601Z
LAST-MODIFIED:20190809T150601Z
UID:1681-1568538000-1568541600@ourstjames.church
SUMMARY:Sunday Service with Holy Communion
DESCRIPTION:
URL:https://ourstjames.church/event/sunday-service-with-holy-communion-2
LOCATION:St. James UCC\, 9008 Meisner Rd\, Casco\, 48064\, United States
END:VEVENT
BEGIN:VEVENT
DTSTART;TZID=America/Halifax:20190914T180000
DTEND;TZID=America/Halifax:20190914T210000
DTSTAMP:20260423T133322
CREATED:20190829T180703Z
LAST-MODIFIED:20190829T180703Z
UID:1695-1568484000-1568494800@ourstjames.church
SUMMARY:St. Johns Fun and Game Night
DESCRIPTION:Cost is $5 per person or $8 per family.  Refreshments will be provided.
URL:https://ourstjames.church/event/st-johns-fun-and-game-night
LOCATION:St. Johns
END:VEVENT
BEGIN:VEVENT
DTSTART;TZID=America/Halifax:20190910T190000
DTEND;TZID=America/Halifax:20190910T203000
DTSTAMP:20260423T133322
CREATED:20190809T150528Z
LAST-MODIFIED:20190809T150528Z
UID:1678-1568142000-1568147400@ourstjames.church
SUMMARY:Council Meeting
DESCRIPTION:
URL:https://ourstjames.church/event/council-meeting-10
LOCATION:St. James UCC\, 9008 Meisner Rd\, Casco\, 48064\, United States
END:VEVENT
BEGIN:VEVENT
DTSTART;TZID=America/Halifax:20190901T090000
DTEND;TZID=America/Halifax:20190901T100000
DTSTAMP:20260423T133322
CREATED:20190809T150451Z
LAST-MODIFIED:20190809T150451Z
UID:1675-1567328400-1567332000@ourstjames.church
SUMMARY:Sunday Service with Holy Communion
DESCRIPTION:
URL:https://ourstjames.church/event/sunday-service-with-holy-communion
LOCATION:St. James UCC\, 9008 Meisner Rd\, Casco\, 48064\, United States
END:VEVENT
BEGIN:VEVENT
DTSTART;TZID=America/Halifax:20190825T090000
DTEND;TZID=America/Halifax:20190825T160000
DTSTAMP:20260423T133322
CREATED:20190809T150404Z
LAST-MODIFIED:20190809T150404Z
UID:1672-1566723600-1566748800@ourstjames.church
SUMMARY:Outdoor Service and Annual Picnic
DESCRIPTION:Annual Church Picnic – August 25th \nThe Annual Picnic will be held after Sunday’s outside service.  Stay and spend sometime in fellowship with church members talking\, eating and playing games.  Bring a lawn chair\, blanket and games if you would like.  Sign-up sheets for a dish to pass / set-up and tear down are available in church basement.  Let us know how many will be coming to the picnic.  Coffee hour will be directly after service with the BBQ beginning at 11:30am.
URL:https://ourstjames.church/event/outdoor-service-and-annual-picnic
LOCATION:St. James UCC\, 9008 Meisner Rd\, Casco\, 48064\, United States
END:VEVENT
BEGIN:VEVENT
DTSTART;TZID=America/Halifax:20190818T090000
DTEND;TZID=America/Halifax:20190818T100000
DTSTAMP:20260423T133322
CREATED:20190809T145948Z
LAST-MODIFIED:20190809T145948Z
UID:1669-1566118800-1566122400@ourstjames.church
SUMMARY:Sunday Service with Communion
DESCRIPTION:
URL:https://ourstjames.church/event/sunday-service-with-communion-7
LOCATION:St. James UCC\, 9008 Meisner Rd\, Casco\, 48064\, United States
END:VEVENT
BEGIN:VEVENT
DTSTART;TZID=America/Halifax:20190817T200000
DTEND;TZID=America/Halifax:20190817T223000
DTSTAMP:20260423T133322
CREATED:20190809T145824Z
LAST-MODIFIED:20190809T145824Z
UID:1663-1566072000-1566081000@ourstjames.church
SUMMARY:Outside Movie Night
DESCRIPTION:Movie Under the Stars \nSecondhand Lions\, with Michael Caine\, Robert Duvall  \nand Haley Joel Osment \nSaturday\, August 17th 2019 at 8:00pm \nMovie and Concession Stand  \nBring your chair\, blanket and pillow \nFree will donation for movie
URL:https://ourstjames.church/event/outside-movie-night
LOCATION:St. James UCC\, 9008 Meisner Rd\, Casco\, 48064\, United States
END:VEVENT
BEGIN:VEVENT
DTSTART;TZID=America/Halifax:20190811T090000
DTEND;TZID=America/Halifax:20190811T100000
DTSTAMP:20260423T133322
CREATED:20190809T145351Z
LAST-MODIFIED:20190809T145901Z
UID:1660-1565514000-1565517600@ourstjames.church
SUMMARY:Sunday Service
DESCRIPTION:
URL:https://ourstjames.church/event/sunday-service-with-communion-6
LOCATION:St. James UCC\, 9008 Meisner Rd\, Casco\, 48064\, United States
END:VEVENT
BEGIN:VEVENT
DTSTART;TZID=America/Halifax:20190721T090000
DTEND;TZID=America/Halifax:20190721T100000
DTSTAMP:20260423T133322
CREATED:20190705T193354Z
LAST-MODIFIED:20190705T193354Z
UID:1647-1563699600-1563703200@ourstjames.church
SUMMARY:Commuion Sunday Service with Communion
DESCRIPTION:
URL:https://ourstjames.church/event/commuion-sunday-service-with-communion
LOCATION:St. James UCC\, 9008 Meisner Rd\, Casco\, 48064\, United States
END:VEVENT
BEGIN:VEVENT
DTSTART;TZID=America/Halifax:20190707T090000
DTEND;TZID=America/Halifax:20190707T100000
DTSTAMP:20260423T133322
CREATED:20190705T193248Z
LAST-MODIFIED:20190705T193248Z
UID:1644-1562490000-1562493600@ourstjames.church
SUMMARY:Sunday Service with Communion
DESCRIPTION:
URL:https://ourstjames.church/event/sunday-service-with-communion-5
LOCATION:St. James UCC\, 9008 Meisner Rd\, Casco\, 48064\, United States
END:VEVENT
BEGIN:VEVENT
DTSTART;TZID=America/Halifax:20190630T090000
DTEND;TZID=America/Halifax:20190630T100000
DTSTAMP:20260423T133322
CREATED:20190531T153239Z
LAST-MODIFIED:20190531T153239Z
UID:1615-1561885200-1561888800@ourstjames.church
SUMMARY:Healing Service
DESCRIPTION:
URL:https://ourstjames.church/event/healing-service-4
LOCATION:St. James UCC\, 9008 Meisner Rd\, Casco\, 48064\, United States
END:VEVENT
BEGIN:VEVENT
DTSTART;TZID=America/Halifax:20190629T200000
DTEND;TZID=America/Halifax:20190629T230000
DTSTAMP:20260423T133322
CREATED:20190613T164507Z
LAST-MODIFIED:20190613T164559Z
UID:1637-1561838400-1561849200@ourstjames.church
SUMMARY:Bon Fire - Hay Ride (Weather permitting)
DESCRIPTION:We will be having a Bon Fire with a Hayride on Saturday\, June 29th at 8pm. \nConcession stand will be set up with hot dogs\, hot pretzels and pop. \nBring your lawn chair\, blanket\, marshmellow sticks for S’Mores and any wood you may have. \n 
URL:https://ourstjames.church/event/bon-fire-hay-ride-weather-permitting
LOCATION:St. James UCC\, 9008 Meisner Rd\, Casco\, 48064\, United States
END:VEVENT
BEGIN:VEVENT
DTSTART;TZID=America/Halifax:20190629T200000
DTEND;TZID=America/Halifax:20190629T230000
DTSTAMP:20260423T133322
CREATED:20190531T153940Z
LAST-MODIFIED:20190613T163938Z
UID:1624-1561838400-1561849200@ourstjames.church
SUMMARY:Movie Under the Stars - CANCELLED
DESCRIPTION:Movie to be shown is Secondhand Lions with Michael Caine\, Robert Duvall and Haley Joel Osment \nConcession Stand opens at 8pm\, Movie begins at dusk. \nBring your chair\, blanket and pillow. \nFree will donation for movie. \n 
URL:https://ourstjames.church/event/movie-under-the-stars
LOCATION:St. James UCC\, 9008 Meisner Rd\, Casco\, 48064\, United States
END:VEVENT
END:VCALENDAR