BEGIN:VCALENDAR
VERSION:2.0
PRODID:-//St. James Church - ECPv6.15.20//NONSGML v1.0//EN
CALSCALE:GREGORIAN
METHOD:PUBLISH
X-WR-CALNAME:St. James Church
X-ORIGINAL-URL:https://ourstjames.church
X-WR-CALDESC:Events for St. James Church
REFRESH-INTERVAL;VALUE=DURATION:PT1H
X-Robots-Tag:noindex
X-PUBLISHED-TTL:PT1H
BEGIN:VTIMEZONE
TZID:America/Halifax
BEGIN:DAYLIGHT
TZOFFSETFROM:-0400
TZOFFSETTO:-0300
TZNAME:ADT
DTSTART:20190310T060000
END:DAYLIGHT
BEGIN:STANDARD
TZOFFSETFROM:-0300
TZOFFSETTO:-0400
TZNAME:AST
DTSTART:20191103T050000
END:STANDARD
BEGIN:DAYLIGHT
TZOFFSETFROM:-0400
TZOFFSETTO:-0300
TZNAME:ADT
DTSTART:20200308T060000
END:DAYLIGHT
BEGIN:STANDARD
TZOFFSETFROM:-0300
TZOFFSETTO:-0400
TZNAME:AST
DTSTART:20201101T050000
END:STANDARD
BEGIN:DAYLIGHT
TZOFFSETFROM:-0400
TZOFFSETTO:-0300
TZNAME:ADT
DTSTART:20210314T060000
END:DAYLIGHT
BEGIN:STANDARD
TZOFFSETFROM:-0300
TZOFFSETTO:-0400
TZNAME:AST
DTSTART:20211107T050000
END:STANDARD
END:VTIMEZONE
BEGIN:VEVENT
DTSTART;TZID=America/Halifax:20201028T190000
DTEND;TZID=America/Halifax:20201028T200000
DTSTAMP:20260423T071744
CREATED:20200918T184008Z
LAST-MODIFIED:20200918T184008Z
UID:2018-1603911600-1603915200@ourstjames.church
SUMMARY:Upper Room Discussion Group
DESCRIPTION:As we are looking to stay connected and continue our spiritual growth throughout these unique times. \nI am inviting you to participate in a virtual discussion group on Wednesday evenings at 7 PM in the month of October.  You will be able to participate either via the telephone or Internet through Zoom. I will provide the very simple instructions to participate. The discussion group will last for one hour. This will be a joint discussion between St. James\, St. John’s\, and whoever else may wish to join us. \nIf you are interested it will require that you contact me with your name and email address and/or phone number and I will provide you with a link to connect or a phone number to call in order to participate.  I will need to know by Sept 30 so I can set it up. \nThe discussion will be based on some previous month’s readings in the Upper Room. I will provide you electronic access to the Upper Room and the specific readings. \nIf you are interested and/or have questions please feel free to contact me \n.I look forward to sharing with you.\nTake care and be well\, peace\, Ken \nSign-up sheets are provided at both churches.
URL:https://ourstjames.church/event/upper-room-discussion-group-4
END:VEVENT
BEGIN:VEVENT
DTSTART;TZID=America/Halifax:20201021T190000
DTEND;TZID=America/Halifax:20201021T200000
DTSTAMP:20260423T071744
CREATED:20200918T183858Z
LAST-MODIFIED:20200918T183858Z
UID:2015-1603306800-1603310400@ourstjames.church
SUMMARY:Upper Room Discussion Group
DESCRIPTION:As we are looking to stay connected and continue our spiritual growth throughout these unique times. \nI am inviting you to participate in a virtual discussion group on Wednesday evenings at 7 PM in the month of October.  You will be able to participate either via the telephone or Internet through Zoom. I will provide the very simple instructions to participate. The discussion group will last for one hour. This will be a joint discussion between St. James\, St. John’s\, and whoever else may wish to join us. \nIf you are interested it will require that you contact me with your name and email address and/or phone number and I will provide you with a link to connect or a phone number to call in order to participate.  I will need to know by Sept 30 so I can set it up. \nThe discussion will be based on some previous month’s readings in the Upper Room. I will provide you electronic access to the Upper Room and the specific readings. \nIf you are interested and/or have questions please feel free to contact me \n.I look forward to sharing with you.\nTake care and be well\, peace\, Ken \nSign-up sheets are provided at both churches.
URL:https://ourstjames.church/event/upper-room-discussion-group-3
END:VEVENT
BEGIN:VEVENT
DTSTART;TZID=America/Halifax:20201018T090000
DTEND;TZID=America/Halifax:20201018T100000
DTSTAMP:20260423T071744
CREATED:20200918T182202Z
LAST-MODIFIED:20200918T182202Z
UID:2000-1603011600-1603015200@ourstjames.church
SUMMARY:Sunday Worship with Holy Communion
DESCRIPTION:
URL:https://ourstjames.church/event/sunday-worship-with-holy-communion-2
LOCATION:St. James UCC\, 9008 Meisner Rd\, Casco\, 48064\, United States
END:VEVENT
BEGIN:VEVENT
DTSTART;TZID=America/Halifax:20201014T190000
DTEND;TZID=America/Halifax:20201014T200000
DTSTAMP:20260423T071744
CREATED:20200918T183756Z
LAST-MODIFIED:20200918T183756Z
UID:2012-1602702000-1602705600@ourstjames.church
SUMMARY:Upper Room Discussion Group
DESCRIPTION:As we are looking to stay connected and continue our spiritual growth throughout these unique times. \nI am inviting you to participate in a virtual discussion group on Wednesday evenings at 7 PM in the month of October.  You will be able to participate either via the telephone or Internet through Zoom. I will provide the very simple instructions to participate. The discussion group will last for one hour. This will be a joint discussion between St. James\, St. John’s\, and whoever else may wish to join us. \nIf you are interested it will require that you contact me with your name and email address and/or phone number and I will provide you with a link to connect or a phone number to call in order to participate.  I will need to know by Sept 30 so I can set it up. \nThe discussion will be based on some previous month’s readings in the Upper Room. I will provide you electronic access to the Upper Room and the specific readings. \nIf you are interested and/or have questions please feel free to contact me \n.I look forward to sharing with you.\nTake care and be well\, peace\, Ken \nSign-up sheets are provided at both churches.
URL:https://ourstjames.church/event/upper-room-discussion-group-2
END:VEVENT
BEGIN:VEVENT
DTSTART;TZID=America/Halifax:20201013T190000
DTEND;TZID=America/Halifax:20201013T200000
DTSTAMP:20260423T071744
CREATED:20200918T182122Z
LAST-MODIFIED:20200918T182122Z
UID:1997-1602615600-1602619200@ourstjames.church
SUMMARY:Council Meeting
DESCRIPTION:
URL:https://ourstjames.church/event/council-meeting-18
LOCATION:St. James UCC\, 9008 Meisner Rd\, Casco\, 48064\, United States
END:VEVENT
BEGIN:VEVENT
DTSTART;TZID=America/Halifax:20201007T190000
DTEND;TZID=America/Halifax:20201007T200000
DTSTAMP:20260423T071744
CREATED:20200918T183641Z
LAST-MODIFIED:20200918T183641Z
UID:2008-1602097200-1602100800@ourstjames.church
SUMMARY:Upper Room Discussion Group
DESCRIPTION:As we are looking to stay connected and continue our spiritual growth throughout these unique times. \nI am inviting you to participate in a virtual discussion group on Wednesday evenings at 7 PM in the month of October.  You will be able to participate either via the telephone or Internet through Zoom. I will provide the very simple instructions to participate. The discussion group will last for one hour. This will be a joint discussion between St. James\, St. John’s\, and whoever else may wish to join us. \nIf you are interested it will require that you contact me with your name and email address and/or phone number and I will provide you with a link to connect or a phone number to call in order to participate.  I will need to know by Sept 30 so I can set it up. \nThe discussion will be based on some previous month’s readings in the Upper Room. I will provide you electronic access to the Upper Room and the specific readings. \nIf you are interested and/or have questions please feel free to contact me \n.I look forward to sharing with you.  Take care and be well\, peace\, Ken \nSign-up sheets are provided at both churches.
URL:https://ourstjames.church/event/upper-room-discussion-group
LOCATION:Zoom Class
END:VEVENT
BEGIN:VEVENT
DTSTART;TZID=America/Halifax:20201004T090000
DTEND;TZID=America/Halifax:20201004T100000
DTSTAMP:20260423T071744
CREATED:20200918T182050Z
LAST-MODIFIED:20200918T182050Z
UID:1994-1601802000-1601805600@ourstjames.church
SUMMARY:Sunday Worship with Communion
DESCRIPTION:
URL:https://ourstjames.church/event/sunday-worship-with-communion-4
LOCATION:St. James UCC\, 9008 Meisner Rd\, Casco\, 48064\, United States
END:VEVENT
BEGIN:VEVENT
DTSTART;TZID=America/Halifax:20200920T090000
DTEND;TZID=America/Halifax:20200920T100000
DTSTAMP:20260423T071744
CREATED:20200827T190441Z
LAST-MODIFIED:20200827T190441Z
UID:1984-1600592400-1600596000@ourstjames.church
SUMMARY:Sunday Worship with Communion
DESCRIPTION:
URL:https://ourstjames.church/event/sunday-worship-with-communion-3
LOCATION:St. James UCC\, 9008 Meisner Rd\, Casco\, 48064\, United States
END:VEVENT
BEGIN:VEVENT
DTSTART;TZID=America/Halifax:20200908T190000
DTEND;TZID=America/Halifax:20200908T200000
DTSTAMP:20260423T071744
CREATED:20200827T190515Z
LAST-MODIFIED:20200827T190515Z
UID:1987-1599591600-1599595200@ourstjames.church
SUMMARY:Council Meeting
DESCRIPTION:
URL:https://ourstjames.church/event/council-meeting-17
LOCATION:St. James UCC\, 9008 Meisner Rd\, Casco\, 48064\, United States
END:VEVENT
BEGIN:VEVENT
DTSTART;TZID=America/Halifax:20200906T090000
DTEND;TZID=America/Halifax:20200906T100000
DTSTAMP:20260423T071744
CREATED:20200827T190403Z
LAST-MODIFIED:20200827T190403Z
UID:1981-1599382800-1599386400@ourstjames.church
SUMMARY:Sunday Worship with Communion
DESCRIPTION:
URL:https://ourstjames.church/event/sunday-worship-with-communion-2
LOCATION:St. James UCC\, 9008 Meisner Rd\, Casco\, 48064\, United States
END:VEVENT
BEGIN:VEVENT
DTSTART;TZID=America/Halifax:20200830T090000
DTEND;TZID=America/Halifax:20200830T100000
DTSTAMP:20260423T071744
CREATED:20200827T190311Z
LAST-MODIFIED:20200827T190638Z
UID:1978-1598778000-1598781600@ourstjames.church
SUMMARY:Annual Outside Service with Healing
DESCRIPTION:Picnic brunch served in church basement following service.
URL:https://ourstjames.church/event/annual-outside-service-with-healing
LOCATION:St. James UCC\, 9008 Meisner Rd\, Casco\, 48064\, United States
END:VEVENT
BEGIN:VEVENT
DTSTART;TZID=America/Halifax:20200816T090000
DTEND;TZID=America/Halifax:20200816T100000
DTSTAMP:20260423T071744
CREATED:20200731T160636Z
LAST-MODIFIED:20200731T160636Z
UID:1959-1597568400-1597572000@ourstjames.church
SUMMARY:Sunday Worship with Communion
DESCRIPTION:Streaming live at 9am. on St. James website.
URL:https://ourstjames.church/event/sunday-worship-with-communion
LOCATION:St. James UCC\, 9008 Meisner Rd\, Casco\, 48064\, United States
END:VEVENT
BEGIN:VEVENT
DTSTART;TZID=America/Halifax:20200811T190000
DTEND;TZID=America/Halifax:20200811T200000
DTSTAMP:20260423T071744
CREATED:20200731T160402Z
LAST-MODIFIED:20200731T160402Z
UID:1953-1597172400-1597176000@ourstjames.church
SUMMARY:Council Meeting
DESCRIPTION:
URL:https://ourstjames.church/event/council-meeting-16
LOCATION:St. James UCC\, 9008 Meisner Rd\, Casco\, 48064\, United States
END:VEVENT
BEGIN:VEVENT
DTSTART;TZID=America/Halifax:20200802T090000
DTEND;TZID=America/Halifax:20200802T100000
DTSTAMP:20260423T071744
CREATED:20200731T160528Z
LAST-MODIFIED:20200731T160528Z
UID:1956-1596358800-1596362400@ourstjames.church
SUMMARY:Worship Service with Communion
DESCRIPTION:Streaming Live on St. James website at 9am.
URL:https://ourstjames.church/event/worship-service-with-communion
LOCATION:St. James UCC\, 9008 Meisner Rd\, Casco\, 48064\, United States
END:VEVENT
BEGIN:VEVENT
DTSTART;TZID=America/Halifax:20200719T090000
DTEND;TZID=America/Halifax:20200719T100000
DTSTAMP:20260423T071744
CREATED:20200611T203220Z
LAST-MODIFIED:20200611T203220Z
UID:1914-1595149200-1595152800@ourstjames.church
SUMMARY:Sunday Service with Holy Communion
DESCRIPTION:
URL:https://ourstjames.church/event/sunday-service-with-holy-communion-6
LOCATION:St. James UCC\, 9008 Meisner Rd\, Casco\, 48064\, United States
END:VEVENT
BEGIN:VEVENT
DTSTART;TZID=America/Halifax:20200714T190000
DTEND;TZID=America/Halifax:20200714T200000
DTSTAMP:20260423T071744
CREATED:20200611T203139Z
LAST-MODIFIED:20200611T203139Z
UID:1911-1594753200-1594756800@ourstjames.church
SUMMARY:Council Meeting
DESCRIPTION:Tuesday\, July 14th at 7pm.
URL:https://ourstjames.church/event/council-meeting-15
LOCATION:St. James UCC\, 9008 Meisner Rd\, Casco\, 48064\, United States
END:VEVENT
BEGIN:VEVENT
DTSTART;TZID=America/Halifax:20200705T090000
DTEND;TZID=America/Halifax:20200705T100000
DTSTAMP:20260423T071744
CREATED:20200611T203031Z
LAST-MODIFIED:20200611T203031Z
UID:1908-1593939600-1593943200@ourstjames.church
SUMMARY:Sunday Service with Holy Communion
DESCRIPTION:
URL:https://ourstjames.church/event/sunday-service-with-holy-communion-5
LOCATION:St. James UCC\, 9008 Meisner Rd\, Casco\, 48064\, United States
END:VEVENT
BEGIN:VEVENT
DTSTART;TZID=America/Halifax:20200628T090000
DTEND;TZID=America/Halifax:20200628T100000
DTSTAMP:20260423T071744
CREATED:20200611T202940Z
LAST-MODIFIED:20200611T202940Z
UID:1905-1593334800-1593338400@ourstjames.church
SUMMARY:Sunday Service
DESCRIPTION:
URL:https://ourstjames.church/event/sunday-service-2
LOCATION:St. James UCC\, 9008 Meisner Rd\, Casco\, 48064\, United States
END:VEVENT
BEGIN:VEVENT
DTSTART;TZID=America/Halifax:20200621T090000
DTEND;TZID=America/Halifax:20200621T110000
DTSTAMP:20260423T071744
CREATED:20200611T202845Z
LAST-MODIFIED:20200611T202845Z
UID:1902-1592730000-1592737200@ourstjames.church
SUMMARY:Sunday Service with Holy Communion - Father's Day Breakfast
DESCRIPTION:We will be serving Father’s Day breakfast in the church basement following Sunday Service.  Take out your receipes and bring a dish to pass.
URL:https://ourstjames.church/event/sunday-service-with-holy-communion-fathers-day-breakfast
LOCATION:St. James UCC\, 9008 Meisner Rd\, Casco\, 48064\, United States
END:VEVENT
BEGIN:VEVENT
DTSTART;TZID=America/Halifax:20200614T090000
DTEND;TZID=America/Halifax:20200614T100000
DTSTAMP:20260423T071744
CREATED:20200611T202537Z
LAST-MODIFIED:20200611T202537Z
UID:1899-1592125200-1592128800@ourstjames.church
SUMMARY:Sunday Service
DESCRIPTION:
URL:https://ourstjames.church/event/sunday-service
LOCATION:St. James UCC\, 9008 Meisner Rd\, Casco\, 48064\, United States
END:VEVENT
BEGIN:VEVENT
DTSTART;TZID=America/Halifax:20200419T090000
DTEND;TZID=America/Halifax:20200419T100000
DTSTAMP:20260423T071744
CREATED:20200131T155156Z
LAST-MODIFIED:20200131T155156Z
UID:1825-1587286800-1587290400@ourstjames.church
SUMMARY:Communion Sunday
DESCRIPTION:
URL:https://ourstjames.church/event/communion-sunday-16
LOCATION:St. James UCC\, 9008 Meisner Rd\, Casco\, 48064\, United States
END:VEVENT
BEGIN:VEVENT
DTSTART;TZID=America/Halifax:20200414T190000
DTEND;TZID=America/Halifax:20200414T200000
DTSTAMP:20260423T071744
CREATED:20200131T155043Z
LAST-MODIFIED:20200131T155043Z
UID:1819-1586890800-1586894400@ourstjames.church
SUMMARY:Council Meeting
DESCRIPTION:
URL:https://ourstjames.church/event/council-meeting-14
LOCATION:St. James UCC\, 9008 Meisner Rd\, Casco\, 48064\, United States
END:VEVENT
BEGIN:VEVENT
DTSTART;TZID=America/Halifax:20200412T073000
DTEND;TZID=America/Halifax:20200412T100000
DTSTAMP:20260423T071744
CREATED:20200131T155355Z
LAST-MODIFIED:20200131T155355Z
UID:1828-1586676600-1586685600@ourstjames.church
SUMMARY:Easter Breakfast & Sunday Service with Communion
DESCRIPTION:Easter Breakfast will be served at 7:30am with Easter Service and communion following.
URL:https://ourstjames.church/event/easter-breakfast-sunday-service-with-communion
LOCATION:St. James UCC\, 9008 Meisner Rd\, Casco\, 48064\, United States
END:VEVENT
BEGIN:VEVENT
DTSTART;TZID=America/Halifax:20200410T123000
DTEND;TZID=America/Halifax:20200410T140000
DTSTAMP:20260423T071744
CREATED:20200131T155543Z
LAST-MODIFIED:20200131T155543Z
UID:1831-1586521800-1586527200@ourstjames.church
SUMMARY:Good Friday Service & Stations of the Cross
DESCRIPTION:Good Friday service followed by the Stations of the Cross
URL:https://ourstjames.church/event/good-friday-service-stations-of-the-cross
LOCATION:St. James UCC\, 9008 Meisner Rd\, Casco\, 48064\, United States
END:VEVENT
BEGIN:VEVENT
DTSTART;TZID=America/Halifax:20200405T090000
DTEND;TZID=America/Halifax:20200405T100000
DTSTAMP:20260423T071744
CREATED:20200131T154906Z
LAST-MODIFIED:20200131T154956Z
UID:1813-1586077200-1586080800@ourstjames.church
SUMMARY:Palm Sunday Service with Holy Communion
DESCRIPTION:
URL:https://ourstjames.church/event/sunday-service-with-holy-communion-4
LOCATION:St. James UCC\, 9008 Meisner Rd\, Casco\, 48064\, United States
END:VEVENT
BEGIN:VEVENT
DTSTART;TZID=America/Halifax:20200329T090000
DTEND;TZID=America/Halifax:20200329T100000
DTSTAMP:20260423T071744
CREATED:20200131T154723Z
LAST-MODIFIED:20200131T154723Z
UID:1810-1585472400-1585476000@ourstjames.church
SUMMARY:Healing Service
DESCRIPTION:
URL:https://ourstjames.church/event/healing-service-7
LOCATION:St. James UCC\, 9008 Meisner Rd\, Casco\, 48064\, United States
END:VEVENT
BEGIN:VEVENT
DTSTART;TZID=America/Halifax:20200322T160000
DTEND;TZID=America/Halifax:20200322T190000
DTSTAMP:20260423T071744
CREATED:20200213T210101Z
LAST-MODIFIED:20200313T182748Z
UID:1844-1584892800-1584903600@ourstjames.church
SUMMARY:St. James Corn Beef Dinner
DESCRIPTION:
URL:https://ourstjames.church/event/st-james-corn-beef-dinner
LOCATION:Perch Point
ATTACH;FMTTYPE=image/jpeg:https://ourstjames.church/wp-content/uploads/2018/02/4-leaf-clover.jpeg
END:VEVENT
BEGIN:VEVENT
DTSTART;TZID=America/Halifax:20200321T183000
DTEND;TZID=America/Halifax:20200321T220000
DTSTAMP:20260423T071744
CREATED:20200131T154432Z
LAST-MODIFIED:20200131T154432Z
UID:1802-1584815400-1584828000@ourstjames.church
SUMMARY:Euchre
DESCRIPTION:
URL:https://ourstjames.church/event/euchre-15
ATTACH;FMTTYPE=image/png:https://ourstjames.church/wp-content/uploads/2020/01/Euchre-Picture.png
END:VEVENT
BEGIN:VEVENT
DTSTART;TZID=America/Halifax:20200319T080000
DTEND;TZID=America/Halifax:20200321T170000
DTSTAMP:20260423T071744
CREATED:20200319T152124Z
LAST-MODIFIED:20200319T152232Z
UID:1865-1584604800-1584810000@ourstjames.church
SUMMARY:Euchre for March 21st has been CANCELLED
DESCRIPTION:Due to the Coronavirus official instructions and in order to keep all well\, we have cancelled this Saturday’s Euchre night.  We will notify all via email\, St. James website and St. James Facebook page when it will resume. \nThank you for your understanding and stay well. \n 
URL:https://ourstjames.church/event/euchre-for-march-21st-has-been-cancelled
END:VEVENT
BEGIN:VEVENT
DTSTART;TZID=America/Halifax:20200315T090000
DTEND;TZID=America/Halifax:20200315T100000
DTSTAMP:20260423T071744
CREATED:20200131T154213Z
LAST-MODIFIED:20200131T154213Z
UID:1799-1584262800-1584266400@ourstjames.church
SUMMARY:Sunday Service with Communion
DESCRIPTION:
URL:https://ourstjames.church/event/sunday-service-with-communion-8
LOCATION:St. James UCC\, 9008 Meisner Rd\, Casco\, 48064\, United States
END:VEVENT
END:VCALENDAR